BEGIN:VCALENDAR
VERSION:2.0
PRODID:gruene-ottersberg.de
METHOD:PUBLISH
BEGIN:VTIMEZONE
TZID:Europe/Berlin
X-LIC-LOCATION:Europe/Berlin
BEGIN:DAYLIGHT
TZOFFSETFROM:+0100
TZOFFSETTO:+0200
TZNAME:CEST
DTSTART:19700329T020000
RRULE:FREQ=YEARLY;INTERVAL=1;BYDAY=-1SU;BYMONTH=3
END:DAYLIGHT
BEGIN:STANDARD
TZOFFSETFROM:+0200
TZOFFSETTO:+0100
TZNAME:CET
DTSTART:19701025T030000
RRULE:FREQ=YEARLY;INTERVAL=1;BYDAY=-1SU;BYMONTH=10
END:STANDARD
END:VTIMEZONE
BEGIN:VEVENT
UID:3953689683a0df624a8ec16df74adb96@gruene-ottersberg.de
URL;VALUE=URI:https://gruene-ottersberg.de/termine/gruener-salatabend/
LOCATION:
SUMMARY:Grüner Salatabend
DESCRIPTION;ALTREP="data:text/html,%0A%3Cp%3EDie%20Gr%C3%BCnen%20Ottersbe
 rg%20starten%20am%20Freitag%2C%2022.3.%20um%2019.00%20Uhr%20ein%20weitere
 s%20Vorbereitungstreffen%20f%C3%BCr%20eine%20Abendveranstaltung%20gegen%2
 0braune%20Tendenzen.%20Sie%20wollen%20sich%20auch%20vor%20Ort%20verst%C3%
 A4rkt%20f%C3%BCr%20eine%20lebendige%20Demokratie%20und%20gegen%20den%20Re
 chtsruck%20engagieren.%20Herzlich%20eingeladen%20mitzuorganisieren%20und%
 20mitzuhelfen%20sind%20auch%20Nicht-Mitglieder%2C%20die%20dieses%20Anlieg
 en%20teilen.%20Wer%20bei%20diesem%20Projekt%20mit%20den%20Gr%C3%BCnen%20v
 or%20Ort%20zusammen%20arbeiten%20will%2C%20kommt%20vorbei.%20%E2%80%93%20
 Aber%3A%20Stumpf%20politisch%20und%20spa%C3%9Fbefreit%20war%20gestern.%20
 Damit%20lockt%20keiner%20mehr%20Mutige%20hinter%20dem%20Ofen%20hervor.%20
 Die%20neue%20Devise%20lautet%3A%20%E2%80%9AGemeinsam%20mit%20guter%20Laun
 e%20was%20bewegen%21%E2%80%98%20Nat%C3%BCrlich%20soll%20auch%20etwas%20ge
 tan%20und%20geschafft%20werden.%20Aber%20gerne%20in%20einem%20fr%C3%B6hli
 chen%20Rahmen%20und%20in%20flotter%20Runde.%20Entsprechend%20gibt%20es%20
 hier%20erstmalig%20einen%20Gr%C3%BCnen%20Salatabend%2C%20zu%20dem%20alle%
 20G%C3%A4ste%20leckere%20Buffetbeitr%C3%A4ge%20mitbringen.%20Damit%20es%2
 0auch%20wirklich%20%E2%80%9Arund%E2%80%98%20geht%2C%20ist%20als%20Veranst
 altungsort%20die%20Wasserm%C3%BChle%2C%20Zum%20Dieker%20Ort%2022%2C%20288
 70%20Fischerhude%20ausgew%C3%A4hlt%20worden.%3C%2Fp%3E%0A%0A%0A%0A%3Cp%3E
 Wer%20also%20einen%20guten%20Salat%20liefern%20kann%20und%20organisieren%
 2C%20helfen%2C%20Plakate%20tackern%20%E2%80%A6%20meldet%20sich%20gerne%20
 an%20bis%20Do.%2C%2021.3.%20bei%3A%20Mareike%20Stadtlander%2C%200178%20-%
 2084%2034%20239%2C%20mareike.stadtlander%40gruene-kv-verden.de%3C%2Fp%3E%
 0A%0A%0A%0A%3Cfigure%20class%3D%22wp-block-image%20size-full%22%3E%3Cimg%
 20src%3D%22https%3A%2F%2Fgruene-ottersberg.de%2Fwp-content%2Fuploads%2Fsi
 tes%2F6%2F2024%2F03%2Fgruener-salatabend-meme-ohne-datum-1.jpg%22%20alt%3
 D%22%22%20class%3D%22wp-image-1490%22%20%2F%3E%3C%2Ffigure%3E%0A":Die Gr
 ünen Ottersberg starten am Freitag\, 22.3. um 19.00 Uhr ein weiteres Vor
 bereitungstreffen für eine Abendveranstaltung gegen braune Tendenzen. Si
 e wollen sich auch vor Ort verstärkt für eine lebendige Demokratie und 
 gegen den Rechtsruck engagieren. Herzlich eingeladen mitzuorganisieren un
 d mitzuhelfen sind auch Nicht-Mitglieder\, die dieses Anliegen teilen. We
 r bei diesem Projekt mit den Grünen vor Ort zusammen arbeiten will\, kom
 mt vorbei. – Aber: Stumpf politisch und spaßbefreit war gestern. Damit
  lockt keiner mehr Mutige hinter dem Ofen hervor. Die neue Devise lautet:
  ‚Gemeinsam mit guter Laune was bewegen!‘ Natürlich soll auch etwas 
 getan und geschafft werden. Aber gerne in einem fröhlichen Rahmen und in
  flotter Runde. Entsprechend gibt es hier erstmalig einen Grünen Salatab
 end\, zu dem alle Gäste leckere Buffetbeiträge mitbringen. Damit es auc
 h wirklich ‚rund‘ geht\, ist als Veranstaltungsort die Wassermühle\,
  Zum Dieker Ort 22\, 28870 Fischerhude ausgewählt worden.\n\nWer also ei
 nen guten Salat liefern kann und organisieren\, helfen\, Plakate tackern 
 … meldet sich gerne an bis Do.\, 21.3. bei: Mareike Stadtlander\, 0178 
 - 84 34 239\, mareike.stadtlander@gruene-kv-verden.de
CLASS:PUBLIC
DTSTART;TZID=Europe/Berlin:19700101T000000
DTEND;TZID=Europe/Berlin:19700101T010000
DTSTAMP:20260424T181359
END:VEVENT
END:VCALENDAR